{
 "currentVersion": 11.1,
 "cimVersion": "3.1.0",
 "serviceDescription": "",
 "mapName": "Map",
 "description": "",
 "copyrightText": "",
 "supportsDynamicLayers": true,
 "layers": [
  {
   "id": 0,
   "name": "Vidutinis saulės energijos potencialas kWh/m2 per dieną",
   "parentLayerId": -1,
   "defaultVisibility": true,
   "subLayerIds": null,
   "minScale": 0,
   "maxScale": 0,
   "type": "Raster Layer",
   "supportsDynamicLegends": true
  }
 ],
 "tables": [],
 "spatialReference": {
  "wkid": 2600,
  "latestWkid": 3346,
  "xyTolerance": 0.001,
  "zTolerance": 0.001,
  "mTolerance": 0.001,
  "falseX": -5122000,
  "falseY": -10000100,
  "xyUnits": 10000,
  "falseZ": -100000,
  "zUnits": 10000,
  "falseM": -100000,
  "mUnits": 10000
 },
 "singleFusedMapCache": true,
 "tileInfo": {
  "rows": 256,
  "cols": 256,
  "dpi": 96,
  "format": "Mixed",
  "compressionQuality": 75,
  "origin": {
   "x": -9499964.336082188,
   "y": 9999964.336082188
  },
  "spatialReference": {
   "wkid": 2600,
   "latestWkid": 3346,
   "xyTolerance": 0.001,
   "zTolerance": 0.001,
   "mTolerance": 0.001,
   "falseX": -5122000,
   "falseY": -10000100,
   "xyUnits": 10000,
   "falseZ": -100000,
   "zUnits": 10000,
   "falseM": -100000,
   "mUnits": 10000
  },
  "lods": [
   {
    "level": 0,
    "resolution": 78124.7213756421,
    "scale": 2.952745374827418E8
   },
   {
    "level": 1,
    "resolution": 39062.36068782105,
    "scale": 1.476372687413709E8
   },
   {
    "level": 2,
    "resolution": 19531.180343910524,
    "scale": 7.381863437068544E7
   },
   {
    "level": 3,
    "resolution": 9765.590171955262,
    "scale": 3.690931718534272E7
   },
   {
    "level": 4,
    "resolution": 4882.795085977631,
    "scale": 1.845465859267136E7
   },
   {
    "level": 5,
    "resolution": 2441.3975429888155,
    "scale": 9227329.29633568
   },
   {
    "level": 6,
    "resolution": 1220.6987714944078,
    "scale": 4613664.64816784
   },
   {
    "level": 7,
    "resolution": 610.3493857472039,
    "scale": 2306832.32408392
   },
   {
    "level": 8,
    "resolution": 305.17469287360194,
    "scale": 1153416.16204196
   },
   {
    "level": 9,
    "resolution": 152.58734643680097,
    "scale": 576708.08102098
   },
   {
    "level": 10,
    "resolution": 76.29367321840049,
    "scale": 288354.04051049
   },
   {
    "level": 11,
    "resolution": 38.14683660920024,
    "scale": 144177.020255245
   },
   {
    "level": 12,
    "resolution": 19.07341830460012,
    "scale": 72088.5101276225
   },
   {
    "level": 13,
    "resolution": 9.53670915230006,
    "scale": 36044.25506381125
   },
   {
    "level": 14,
    "resolution": 4.76835457615003,
    "scale": 18022.127531905626
   },
   {
    "level": 15,
    "resolution": 2.384177288075015,
    "scale": 9011.063765952813
   },
   {
    "level": 16,
    "resolution": 1.1920886440375076,
    "scale": 4505.531882976406
   },
   {
    "level": 17,
    "resolution": 0.5960443220187538,
    "scale": 2252.765941488203
   },
   {
    "level": 18,
    "resolution": 0.2980221610093769,
    "scale": 1126.3829707441016
   }
  ]
 },
 "storageInfo": {
  "storageFormat": "esriMapCacheStorageModeCompactV2",
  "packetSize": 128
 },
 "initialExtent": {
  "xmin": 483522.024869936,
  "ymin": 6075477.3985755285,
  "xmax": 508960.1328821262,
  "ymax": 6093886.555689613,
  "spatialReference": {
   "wkid": 2600,
   "latestWkid": 3346,
   "xyTolerance": 0.001,
   "zTolerance": 0.001,
   "mTolerance": 0.001,
   "falseX": -5122000,
   "falseY": -10000100,
   "xyUnits": 10000,
   "falseZ": -100000,
   "zUnits": 10000,
   "falseM": -100000,
   "mUnits": 10000
  }
 },
 "fullExtent": {
  "xmin": 481000.2500000008,
  "ymin": 6073000.025812019,
  "xmax": 510000.2500000019,
  "ymax": 6095000.025812023,
  "spatialReference": {
   "wkid": 2600,
   "latestWkid": 3346,
   "xyTolerance": 0.001,
   "zTolerance": 0.001,
   "mTolerance": 0.001,
   "falseX": -5122000,
   "falseY": -10000100,
   "xyUnits": 10000,
   "falseZ": -100000,
   "zUnits": 10000,
   "falseM": -100000,
   "mUnits": 10000
  }
 },
 "datesInUnknownTimezone": false,
 "minScale": 288354.04051049,
 "maxScale": 2252.765941488203,
 "minLOD": 10,
 "maxLOD": 17,
 "units": "esriMeters",
 "supportedImageFormatTypes": "PNG32,PNG24,PNG,JPG,DIB,TIFF,EMF,PS,PDF,GIF,SVG,SVGZ,BMP",
 "documentInfo": {
  "Title": "D:\\ARCGIS\\Solar_K\\Solar_K.aprx",
  "Author": "",
  "Comments": "",
  "Subject": "",
  "Category": "",
  "Version": "2.9.0",
  "AntialiasingMode": "Fast",
  "TextAntialiasingMode": "Force",
  "Keywords": "Vidutinis saulės energijos potencialas kWh_m2 per dieną"
 },
 "capabilities": "Map,Query,Data",
 "supportedQueryFormats": "JSON, geoJSON, PBF",
 "exportTilesAllowed": false,
 "referenceScale": 0.0,
 "supportsDatumTransformation": true,
 "archivingInfo": {
  "supportsHistoricMoment": false
 },
 "supportsClipping": true,
 "supportsSpatialFilter": true,
 "supportsTimeRelation": true,
 "supportsQueryDataElements": true,
 "mapUnits": {
  "uwkid": 9001
 },
 "maxRecordCount": 2000,
 "maxImageHeight": 4096,
 "maxImageWidth": 4096,
 "supportedExtensions": "",
 "serviceItemId": "861e54385f374d1f84d80c2f069a68d7"
}
